BEGIN:VCALENDAR
VERSION:2.0
PRODID:-//Česká Neonatologická Společnost - ECPv6.15.20//NONSGML v1.0//EN
CALSCALE:GREGORIAN
METHOD:PUBLISH
X-ORIGINAL-URL:https://cneos.cz
X-WR-CALDESC:Akce na Česká Neonatologická Společnost
REFRESH-INTERVAL;VALUE=DURATION:PT1H
X-Robots-Tag:noindex
X-PUBLISHED-TTL:PT1H
BEGIN:VTIMEZONE
TZID:Europe/Prague
BEGIN:DAYLIGHT
TZOFFSETFROM:+0100
TZOFFSETTO:+0200
TZNAME:CEST
DTSTART:20240331T010000
END:DAYLIGHT
BEGIN:STANDARD
TZOFFSETFROM:+0200
TZOFFSETTO:+0100
TZNAME:CET
DTSTART:20241027T010000
END:STANDARD
BEGIN:DAYLIGHT
TZOFFSETFROM:+0100
TZOFFSETTO:+0200
TZNAME:CEST
DTSTART:20250330T010000
END:DAYLIGHT
BEGIN:STANDARD
TZOFFSETFROM:+0200
TZOFFSETTO:+0100
TZNAME:CET
DTSTART:20251026T010000
END:STANDARD
BEGIN:DAYLIGHT
TZOFFSETFROM:+0100
TZOFFSETTO:+0200
TZNAME:CEST
DTSTART:20260329T010000
END:DAYLIGHT
BEGIN:STANDARD
TZOFFSETFROM:+0200
TZOFFSETTO:+0100
TZNAME:CET
DTSTART:20261025T010000
END:STANDARD
END:VTIMEZONE
BEGIN:VEVENT
DTSTART;VALUE=DATE:20250514
DTEND;VALUE=DATE:20250518
DTSTAMP:20260421T140610
CREATED:20250413T184034Z
LAST-MODIFIED:20250413T184035Z
UID:10107-1747180800-1747526399@cneos.cz
SUMMARY:ESPGHAN 2025
DESCRIPTION:Vážené kolegyně\, vážení kolegové\,\nS radostí vás zveme k účasti na 57. výročním setkání ESPGHAN\, které se uskuteční ve dnech 14.–17. května 2025 v Helsinkách ve Finsku – v dynamickém městě\, které poskytne ideální prostředí pro navazování kontaktů\, vzdělávání a posun naší společné mise vpřed. \n \nPřipravili jsme výjimečný vědecký program\, který nabídne nejnovější výzkum\, praktické workshopy\, klinické sekce a interaktivní vzdělávací příležitosti. Zvláště nás těší\, že můžeme posílit naše vazby s partnerskými společnostmi: \n\nAsijsko-pacifická společnost pro dětskou gastroenterologii\, hepatologii a výživu (AAPSPGHAN)\nEvropská referenční síť pro vzácné dědičné a vrozené (trávicí gastrointestinální) anomálie (ERNICA)\nEvropská asociace dětských chirurgů (EUPSA)\nEvropská společnost pro dětskou endokrinologii (ESPE)\nEvropská akademie alergologie a klinické imunologie (EACCI)\nEvropská asociace pro studium jater (EASL)\n\nAť už jste zkušený odborník nebo nováček v naší komunitě\, výroční setkání ESPGHAN vám nabídne neocenitelné příležitosti k výměně poznatků\, navázání spolupráce\, obnovení kontaktů s dlouholetými přáteli a kolegy a také k zapojení rodin pacientů a lídrů z průmyslu\, kteří utvářejí budoucnost naší práce. Není to jen událost—je to základní kámen našeho společného oboru\, který spojuje největší odborníky v oblasti dětské gastroenterologie\, hepatologie a výživy. A vy můžete být u toho! \n👋 Těšíme se\, že Vás přivítáme v Helsinkách a společně budeme pokračovat v naší společné misi: „Společně za pokrokem excelence v dětské zdravotní péči po celém světě!“ \n👤 Ulrich Baumann\nESPGHAN Society President \n👤 Kaija-Leena Kolho\n2025 Annual Meeting Chair \n👤 Amit Assa\nScientific Committee Chair \n📄  Další důležité informace na webových stránkách kongresu \n 
URL:https://cneos.cz/akce/espghan-2025/
LOCATION:Messukeskus\, Messuaukio 1\, Helsinki\, 00520\, Finland
CATEGORIES:Konference,Zahraniční odborné akce
ATTACH;FMTTYPE=image/jpeg:https://cneos.cz/wp-content/uploads/2025/04/ESPGHAN_2025_Header.jpg
ORGANIZER;CN="Kenes Group":MAILTO:switzerland@kenes.com
END:VEVENT
END:VCALENDAR