BEGIN:VCALENDAR
VERSION:2.0
PRODID:-//Česká Neonatologická Společnost - ECPv6.15.20//NONSGML v1.0//EN
CALSCALE:GREGORIAN
METHOD:PUBLISH
X-ORIGINAL-URL:https://cneos.cz
X-WR-CALDESC:Akce na Česká Neonatologická Společnost
REFRESH-INTERVAL;VALUE=DURATION:PT1H
X-Robots-Tag:noindex
X-PUBLISHED-TTL:PT1H
BEGIN:VTIMEZONE
TZID:Europe/Prague
BEGIN:DAYLIGHT
TZOFFSETFROM:+0100
TZOFFSETTO:+0200
TZNAME:CEST
DTSTART:20220327T010000
END:DAYLIGHT
BEGIN:STANDARD
TZOFFSETFROM:+0200
TZOFFSETTO:+0100
TZNAME:CET
DTSTART:20221030T010000
END:STANDARD
BEGIN:DAYLIGHT
TZOFFSETFROM:+0100
TZOFFSETTO:+0200
TZNAME:CEST
DTSTART:20230326T010000
END:DAYLIGHT
BEGIN:STANDARD
TZOFFSETFROM:+0200
TZOFFSETTO:+0100
TZNAME:CET
DTSTART:20231029T010000
END:STANDARD
BEGIN:DAYLIGHT
TZOFFSETFROM:+0100
TZOFFSETTO:+0200
TZNAME:CEST
DTSTART:20240331T010000
END:DAYLIGHT
BEGIN:STANDARD
TZOFFSETFROM:+0200
TZOFFSETTO:+0100
TZNAME:CET
DTSTART:20241027T010000
END:STANDARD
BEGIN:DAYLIGHT
TZOFFSETFROM:+0100
TZOFFSETTO:+0200
TZNAME:CEST
DTSTART:20250330T010000
END:DAYLIGHT
BEGIN:STANDARD
TZOFFSETFROM:+0200
TZOFFSETTO:+0100
TZNAME:CET
DTSTART:20251026T010000
END:STANDARD
END:VTIMEZONE
BEGIN:VEVENT
DTSTART;VALUE=DATE:20240918
DTEND;VALUE=DATE:20240920
DTSTAMP:20260425T040644
CREATED:20240424T132040Z
LAST-MODIFIED:20240424T133601Z
UID:9006-1726617600-1726790399@cneos.cz
SUMMARY:Právo a paliativní péče v neonatologii a pediatrii
DESCRIPTION:  \nVážené kolegyně\, vážení kolegové\, \ndovolte nám\, abychom vás pozvali na dvoudenní kurz s lektorkou JUDr. Barborou Steinlauf a MUDr. Mahulenou Exnerovou. Kurz je určen zdravotnickým i nezdravotnickým pracovníkům\, kteří se ve své praxi setkávají s právními otázkami souvisejícími s poskytováním péče dětským pacientům. Kurz je koncipován jako interaktivní se zapojením účastníků do průběhu a je akreditován u České lékařské komory. \nPéče o dětské pacienty s sebou přináší mnohé etické a právní nejasnosti. Právní obtíže spojené s péčí o dětského pacienta jsou dané především tím\, že do rozhodování vstupují vedle pacienta také jeho rodiče a každý ze zúčastněných může přinášet jinou představu o tom\, co je dobré a správné řešení. Neshody pak mohou vznikat mezi rodiči navzájem\, mezi pacientem a rodiči nebo mezi rodiči a ošetřujícím týmem. Relevance názoru dětského pacienta se nadto v čase proměňuje\, je proto třeba reflektovat jeho narůstající význam. Cílem kurzu je představit základní právní regulaci poskytování péče dětským pacientům a právní nástroje\, které mohou pomoci v řešení vznikajících neshod. Teoretická výuka bude hojně doplněna analýzou kazuistik\, včetně kazuistik z pracovišť jednotlivých účastníků kurzu. \nTémata\, kterým se bude kurz věnovat: \n\npráva dětského pacienta\nsamostatné rozhodování dětského pacienta\nzástupné rozhodování\nnezahájení a ukončení přístrojové podpory\, DNR\nprovádění pitev\, nakládání s tělem po smrti dětského pacienta\nprávní ochrana ohrožených dětí\, role orgánu sociálně-právní ochrany dětí\nrole soudu v rozhodování\n\n🗓️  Termín: 18. – 19. 9. 2024\, každý den 9:00–16.00 \n🏠  Místo konání: Vzdělávací centrum Cesty domů\, Heleny Kočvarové 1583/1\, Praha 4 – Michle \n🏷️  Cena: 7 800 Kč (v ceně kurzu je oběd a občerstvení) \n🛑  Stornopoplatky: Při omluvě v době 15 a více pracovních dní před konáním kurzu vracíme 100 % z ceny kurzu. Při omluvě 14–5 pracovních dní před konáním kurzu vracíme 50 % z ceny kurzu. Při omluvě méně než 5 pracovních dní před konáním kurzu registrační poplatek nevracíme. V případě\, že za sebe najdete náhradníka\, napište nám (vzdelavani@cestadomu.cz) – platbu zaevidujeme na něj. \n👥  Počet účastníků: Minimální počet účastníků je 10\, maximum 15. \n🎓  Lektoři: JUDr. Barbora Steinlauf\, MA\, Ph.D.\, právnička\nMUDr. Mahulena Exnerová\, externí dětská lékařka Cesty domů \n📃  Další informace naleznete na stránkách kurzu \n⚠️  Upozornění: Cesta domů na vzdělávacích akcích sdílí prostor k otevřené diskuzi odborníků s veřejností. Názory zde představené jsou osobními názory mluvčích a nevyjadřují stanovisko Cesty domů. \n 
URL:https://cneos.cz/akce/pravo-a-paliativni-pece-v-neonatologii-a-pediatrii/
LOCATION:Vzdělávací centrum Cesty domů\, Heleny Kočvarové 1583/1\, Prague\, 14000\, Czech Republic
CATEGORIES:Domácí odborné akce,Kurzy
ATTACH;FMTTYPE=image/jpeg:https://cneos.cz/wp-content/uploads/2024/04/Pravo-a-paliativni-pece-v-neonatologii-a-pediatrii.jpeg
ORGANIZER;CN="Cesta Dom%C5%AF":MAILTO:poradna@cestadomu.cz
END:VEVENT
BEGIN:VEVENT
DTSTART;VALUE=DATE:20231123
DTEND;VALUE=DATE:20231125
DTSTAMP:20260425T040644
CREATED:20230622T185156Z
LAST-MODIFIED:20230831T182231Z
UID:7063-1700697600-1700870399@cneos.cz
SUMMARY:VI. Konference dětské paliativní péče v ČR
DESCRIPTION:VI. Konference dětské paliativní péče v ČR\n\nSekce dětské paliativní péče ČSPM ČLS JEP\nInstitut Pallium\n23. – 24. 11. 2023\nLitomyšl\n  \nVážené kolegyně\, vážení kolegové\, \nna VI. Konferenci dětské paliativní péče vás zveme do Litomyšle\, města s více než tisíciletou tradicí\, geniem loci\, v němž se snoubí úcta k historickému dědictví a péče o ně s moderním a respektujícím rozvojem. Nepřipomíná vám to paliativní péči? Obor prodchnutý respektem k pacientům\, rodinným kořenům\, který si za nejvyšší hodnotu dává kvalitní prožívání času\, který je rodinám vymezen. Obor\, který se dynamicky rozvíjí a inspiruje. \nProgram letošní konference se bude inspirovat Evropskou chartou paliativní péče o děti a mladé lidi\, připravené European Association for Palliative Care. Ta má tři základní okruhy – péče o pacienty\, péče o rodiny a péče o pečující profesionály. Už nyní můžeme slíbit\, že program nabídne nejen zahraničního hosta\, kterým je letos prof. Julia Downing\, přehled současných poznatků\, ale i trendy blízké budoucnosti\, workshopy i příležitosti k setkávání. \nLitomyšl má ve znaku lilii\, původně premonstrátskou. Ve třech listech jejího květu můžeme vidět tři okruhy Charty a heslo premonstrátů „Připraveni ke každému dobrému dílu“ je pečujícím profesionálům v dětské paliativní péči jistě blízké. Dobrá síla spojení Litomyšle a dětské paliativní péče je tedy symbolicky zaručena… \nPřijeďte se poučit\, diskutovat\, rozvíjet sebe a ostatní! \nZa Programový výbor konference\, \nMUDr. Pavel Rozsíval \nPodrobnosti ke konferenci najdete na webu ČSPM\nwww.paliativnimedicina.cz/detska-konference \n 
URL:https://cneos.cz/akce/vi-konference-detske-paliativni-pece-v-cr/
LOCATION:Zámecké návrší Litomyšl\, Jiráskova 133\, Litomyšl\, 57001\, Czech Republic
CATEGORIES:Domácí odborné akce,Konference
ATTACH;FMTTYPE=image/png:https://cneos.cz/wp-content/uploads/2023/06/CSPM_Logo.png
ORGANIZER;CN="Sekce D%C4%9Btsk%C3%A9 Paliativn%C3%AD P%C3%A9%C4%8De %C4%8CSPM %C4%8CLS JEP":MAILTO:detska@paliativnimedicina.cz
END:VEVENT
END:VCALENDAR